BEGIN:VCALENDAR
VERSION:2.0
PRODID:-//Tukios.com/
BEGIN:VEVENT
UID:2a2380c2-0999-4188-8f3c-d4027093d42b@www.smithfuneralhomenj.com
DTSTAMP:20260422T173632Z
DTSTART:20260425T150000Z
DTEND:20260425T160000Z
SUMMARY:Funeral Service
DESCRIPTION:
URL:https://www.smithfuneralhomenj.com/obituaries/tyuan-mccluney
LOCATION: 399 Bergen Street  Newark NJ 07103
GEO:40.7309606;-74.1966055
END:VEVENT
END:VCALENDAR