BEGIN:VCALENDAR
VERSION:2.0
PRODID:-//Tukios.com/
BEGIN:VEVENT
UID:b5616fbd-111f-4228-89c7-a8b68df0f4c1@www.smithfuneralhomenj.com
DTSTAMP:20260422T173234Z
DTSTART:20260425T130000Z
DTEND:20260425T150000Z
SUMMARY:Viewing
DESCRIPTION:
URL:https://www.smithfuneralhomenj.com/obituaries/tyuan-mccluney
LOCATION: 399 Bergen Street  Newark NJ 07103
GEO:40.7309606;-74.1966055
END:VEVENT
END:VCALENDAR