BEGIN:VCALENDAR
VERSION:2.0
PRODID:-//Tukios.com/
BEGIN:VEVENT
UID:09d7581e-7e72-4716-9b09-75de0c46af85@www.smithfuneralhomenj.com
DTSTAMP:20260419T195051Z
DTSTART:20260423
SUMMARY:Burial
DESCRIPTION:
URL:https://www.smithfuneralhomenj.com/obituaries/terry-edmonds
LOCATION: 792 E Edgar Rd  Linden NJ 07036
GEO:40.6284095;-74.2340731
END:VEVENT
END:VCALENDAR