BEGIN:VCALENDAR
VERSION:2.0
PRODID:-//Tukios.com/
BEGIN:VEVENT
UID:99e69ecf-8fc5-4341-9def-c4ec6eebc5c3@www.smithfuneralhomenj.com
DTSTAMP:20260419T194721Z
DTSTART:20260423T150000Z
DTEND:20260423T160000Z
SUMMARY:Funeral Service
DESCRIPTION:
URL:https://www.smithfuneralhomenj.com/obituaries/terry-edmonds
LOCATION: 455 N Broad St  Elizabeth NJ 07208
GEO:40.673263;-74.2133066
END:VEVENT
END:VCALENDAR