BEGIN:VCALENDAR
VERSION:2.0
PRODID:-//Tukios.com/
BEGIN:VEVENT
UID:b4831b38-f9dd-49d9-830e-4e576c839278@www.smithfuneralhomenj.com
DTSTAMP:20260423T232237Z
DTSTART:20260502
SUMMARY:Burial
DESCRIPTION:
URL:https://www.smithfuneralhomenj.com/obituaries/bruce-riddick
LOCATION: 792 E Edgar Rd  Linden NJ 07036
GEO:40.6284095;-74.2340731
END:VEVENT
END:VCALENDAR