BEGIN:VCALENDAR
VERSION:2.0
PRODID:-//Tukios.com/
BEGIN:VEVENT
UID:26090ad5-a281-4856-8ce8-e56439f2ce77@www.smithfuneralhomenj.com
DTSTAMP:20260423T232237Z
DTSTART:20260502T140000Z
DTEND:20260502T150000Z
SUMMARY:Funeral Service
DESCRIPTION:
URL:https://www.smithfuneralhomenj.com/obituaries/bruce-riddick
LOCATION: 455 N Broad St  Elizabeth NJ 07208
GEO:40.673263;-74.2133066
END:VEVENT
END:VCALENDAR