BEGIN:VCALENDAR
VERSION:2.0
PRODID:-//Tukios.com/
BEGIN:VEVENT
UID:fd79b0ed-26c1-44a0-ae34-51c44c1f6139@www.smithfuneralhomenj.com
DTSTAMP:20260423T232523Z
DTSTART:20260502T130000Z
DTEND:20260502T140000Z
SUMMARY:Viewing
DESCRIPTION:
URL:https://www.smithfuneralhomenj.com/obituaries/bruce-riddick
LOCATION: 455 N Broad St  Elizabeth NJ 07208
GEO:40.673263;-74.2133066
END:VEVENT
END:VCALENDAR